BEGIN:VCALENDAR
VERSION:2.0
PRODID:-//OmniMagnetCalendar//EN
BEGIN:VEVENT
DTSTAMP:20190625T195740Z
STATUS:CONFIRMED
UID:hcsouthcarolina.clubs.harvard.edu211
DTSTART:20230714T220000Z
DTEND:20230715T000000Z
LOCATION:Victor's Seafood & Steak, 39F John St, Charleston, Charleston, SC, 29403, USA,
SUMMARY:Dinner Before the Show - "Wait, Wait, Don't Tell Me" Comedy Tour featuring Mo Rocca '91
DESCRIPTION:Join us for dinner before heading over to the Charleston Music Hall to see Harvard's own Mo Rocca '91 performing as part of NPR's "Wait, Wait, Don't Tell Me" Comedy Tour.
BEGIN:VALARM
TRIGGER:-PT15M
ACTION:DISPLAY
END:VALARM
TRANSP:OPAQUE
END:VEVENT
END:VCALENDAR
