BEGIN:VCALENDAR
VERSION:2.0
PRODID:-//OmniMagnetCalendar//EN
BEGIN:VEVENT
DTSTAMP:20190625T195740Z
STATUS:CONFIRMED
UID:hcsouthcarolina.clubs.harvard.edu212
DTSTART:20231023T213000Z
DTEND:20231023T233000Z
LOCATION: Delaney Oyster House, 115 Calhoun St, Charleston, SC, 29401, USA,
SUMMARY:Dinner Before the Show - Pink Martini Featuring China Forbes '92
DESCRIPTION:Join us for dinner before heading over to the Galliard Center to see Harvard's own China Forbes '92 singing with her group Pink Martini.
BEGIN:VALARM
TRIGGER:-PT15M
ACTION:DISPLAY
END:VALARM
TRANSP:OPAQUE
END:VEVENT
END:VCALENDAR
