BEGIN:VCALENDAR
VERSION:2.0
PRODID:-//OmniMagnetCalendar//EN
BEGIN:VEVENT
DTSTAMP:20190625T195740Z
STATUS:CONFIRMED
UID:hcsouthcarolina.clubs.harvard.edu214
DTSTART:20230910T200000Z
DTEND:20230910T220000Z
LOCATION:Laura Roden's Garden (location provided following registration), Aiken, SC, USA,
SUMMARY:A Garden Gathering
DESCRIPTION:Join us for a garden gathering with refreshments, snacks, and good conversation at the central Aiken home of Laura Roden, AB '79, MBA '83.
BEGIN:VALARM
TRIGGER:-PT15M
ACTION:DISPLAY
END:VALARM
TRANSP:OPAQUE
END:VEVENT
END:VCALENDAR
